BEGIN:VCALENDAR
VERSION:2.0
PRODID:-//Wicomico Shores Golf Course - ECPv6.15.18//NONSGML v1.0//EN
CALSCALE:GREGORIAN
METHOD:PUBLISH
X-WR-CALNAME:Wicomico Shores Golf Course
X-ORIGINAL-URL:https://www.wicomicoshoresgolf.com
X-WR-CALDESC:Events for Wicomico Shores Golf Course
REFRESH-INTERVAL;VALUE=DURATION:PT1H
X-Robots-Tag:noindex
X-PUBLISHED-TTL:PT1H
BEGIN:VTIMEZONE
TZID:UTC
BEGIN:STANDARD
TZOFFSETFROM:+0000
TZOFFSETTO:+0000
TZNAME:UTC
DTSTART:20250101T000000
END:STANDARD
END:VTIMEZONE
BEGIN:VEVENT
DTSTART;TZID=UTC:20260522T000000
DTEND;TZID=UTC:20260522T235959
DTSTAMP:20260422T020301
CREATED:20260225T225317Z
LAST-MODIFIED:20260225T225320Z
UID:10000010-1779408000-1779494399@www.wicomicoshoresgolf.com
SUMMARY:Above Par Tournament
DESCRIPTION:
URL:https://www.wicomicoshoresgolf.com/event/above-par-tournament-2/
LOCATION:MD
END:VEVENT
BEGIN:VEVENT
DTSTART;TZID=UTC:20260524T000000
DTEND;TZID=UTC:20260524T235959
DTSTAMP:20260422T020301
CREATED:20260225T225352Z
LAST-MODIFIED:20260225T225355Z
UID:10000011-1779580800-1779667199@www.wicomicoshoresgolf.com
SUMMARY:Veterans Golf Association Tournament
DESCRIPTION:
URL:https://www.wicomicoshoresgolf.com/event/veterans-golf-association-tournament/
LOCATION:MD
END:VEVENT
BEGIN:VEVENT
DTSTART;TZID=UTC:20261002T080000
DTEND;TZID=UTC:20261002T153000
DTSTAMP:20260422T020301
CREATED:20260309T174520Z
LAST-MODIFIED:20260309T174522Z
UID:10000012-1790928000-1790955000@www.wicomicoshoresgolf.com
SUMMARY:R&P Classic
DESCRIPTION:St. Mary’s County Recreation & Parks presents the annual Scholarship Fund golf tournament benefiting youth in St. Mary’s County. For nearly 30 years\, this tournament has generated over $200k in support for children and families to attend recreation programs at a discounted rate. Join us for a day full of golf\, games\, prizes\, food and fun!
URL:https://www.wicomicoshoresgolf.com/event/rp-classic/
LOCATION:Wicomico Shores Golf Course\, 35794 Aviation Yacht Club Rd\, Mechanicsville\, MD\, 20659\, United States
ORGANIZER;CN="St. Mary's County Recreation & Parks":MAILTO:RPinfo@stmaryscountymd.gov
END:VEVENT
END:VCALENDAR